BEGIN:VCALENDAR
VERSION:2.0
PRODID:icalendar-ruby
CALSCALE:GREGORIAN
BEGIN:VEVENT
DTSTAMP:20260422T174738Z
UID:4d5b7522-8c2e-41c1-aa1c-8a438bd98962
DTSTART;TZID=Pacific/Auckland:20260426T123000
DTEND;TZID=Pacific/Auckland:20260426T130000
DESCRIPTION:Property ID# 606111
SUMMARY:Openhome for 2 Beachwater Drive
END:VEVENT
END:VCALENDAR
