BEGIN:VCALENDAR
VERSION:2.0
PRODID:icalendar-ruby
CALSCALE:GREGORIAN
BEGIN:VEVENT
DTSTAMP:20260420T112514Z
UID:873bda08-75a7-4644-87af-22a8c5a5b749
DTSTART;TZID=Pacific/Auckland:20260426T110000
DTEND;TZID=Pacific/Auckland:20260426T114500
DESCRIPTION:Property ID# 606012
SUMMARY:Openhome for 244 Pohutukawa Avenue
END:VEVENT
END:VCALENDAR
