BEGIN:VCALENDAR
VERSION:2.0
PRODID:icalendar-ruby
CALSCALE:GREGORIAN
BEGIN:VEVENT
DTSTAMP:20260422T090900Z
UID:d941936e-b03c-4648-87a6-77682fac2397
DTSTART;TZID=Pacific/Auckland:20260426T134500
DTEND;TZID=Pacific/Auckland:20260426T141500
DESCRIPTION:Property ID# 606903
SUMMARY:Openhome for 29 Camellia Drive
END:VEVENT
END:VCALENDAR
